Workbook
Name AppStream_Hours: Calulations!$B$36
Name AppStream_Instance_Type: Calulations!$B$35
Name AppStream_Streaming_Price: Calulations!$B$37
Name AppStream_Users_Price: Calulations!$B$34
Name Archive: Input!$C$60
Name Archive__retention_period: 'Surveillance Bridge'!$D$17
Name Archive_Storage: 'EC2'!$B$14
Name Archive_Tier_Capacity: 'Tiger Input'!$J$62
Name Archive_Tier_capacity_required: 'Tiger Input'!$C$3
Name AWS_Archive_Tier: 'Tiger Input'!$B$18:$P$23
Name AWS_Archive_Tier_cost: 'Tiger Input'!$M$74
Name AWS_Immediate_Tier: 'Tiger Input'!$B$12:$P$14
Name AWS_Immediate_Tier_cost: 'Tiger Input'!$M$59
Name AWS_Services: 'AWS Prices'!$A$22:$C$31
Name Check_EC2_Payment: Input!$F$7
Name Check_Region: Input!$F$2
Name Client_Access: Input!$E$43
Name Combing: #REF!
Name Custom_Archive: 'XProtect Calculator'!$C$56
Name Custom_MediaDB: 'XProtect Calculator'!$C$53
Name Custom_MediaDB1: 'Surveillance Bridge'!$C$71
Name Daily_Usage: 'XProtect Calculator'!$C$72
Name Down_Throughput: 'XProtect Calculator'!$E$94
Name Downlink: Calulations!$A$42:$B$45
Name EBS_ConfigDB_Price: Calulations!$A$5
Name EBS_LiveDB_Price: Calulations!$A$8
Name EC2_Instance: 'EC2'!$B$32
Name EC2_Instances: 'AWS Prices'!$A$3:$E$10
Name EC2_Payment: Input!$E$7
Name EC2_Payment_Name: Input!$G$7
Name EC2_Performance: 'EC2 Guideline'!$A$5:$F$11
Name EC2_Performance_10: 'EC2 Guideline'!$A$16:$B$23
Name EC2_Performance_100: 'EC2 Guideline'!$A$46:$B$53
Name EC2_Performance_25: 'EC2 Guideline'!$A$26:$B$33
Name EC2_Performance_50: 'EC2 Guideline'!$A$36:$B$43
Name EC2_Price: Calulations!$A$2
Name EC2_Price_Column: Input!$K$2
Name EC2Data: Input!$C$82
Name Egress_per_Month: Calulations!$B$27
Name Egress_Price: Calulations!$B$28
Name Error_Message: Input!$C$65:$P$79
Name FSX_AZ: Input!$H$50
Name FSX_AZ_Deployment: Input!$G$50
Name FSX_Storage_Price: Calulations!$B$11
Name FSX_Thoughput_Allocation: Calulations!$B$15
Name FSX_Throughput: 'EC2'!#REF!
Name FSX_Throughput_Price: Calulations!$B$16
Name Immediate_Tier_Capacity: 'Tiger Input'!$J$48
Name Immediate_Tier_capacity_required: 'Tiger Input'!$C$2
Name InputData: Input!$C$80
Name Investigation: 'XProtect Calculator'!#REF!
Name Live_Storage: 'EC2'!$B$13
Name MediaDB: Input!$C$59
Name Nearline_retention_period: 'Surveillance Bridge'!$D$14
Name Network_Overhead: 'Storage Calulations'!$C$25
Name NetworkStorage: #REF!
Name No_Cameras: 'XProtect Calculator'!$C$22
Name No_Operators: 'XProtect Calculator'!$C$68
Name No_Sites: 'XProtect Calculator'!$C$88
Name Number_of_folders: 'Tiger Input'!$C$5

Sheet XProtect Calculator
B3: Price calculator for deploying Milestone XProtect BYOL on AWS
C6: Pricing
C8: AWS Region
C9: Select region for deployment
C12: EC2 payment plan
C13: Select payment plan for EC2
C14: 200
C18: VMS Dimensioning Parameters
C20: Number of cameras
C21: Enter how many cameras you plan to connect to your XProtect VMS system
K22: =IF(EC2Data=TRUE,IF(EC2_Instance="No Match","The specified number of cameras with the given stream size exceeds the capacity of a single EC2 instance.",""),"")
C24: Size of recorded video stream
C25: Enter the assumed average size of the H.264 video stream used for recording
J26: Mbps
C28: Degree of recording
C29: Select the % recoding you expect the system to do. Select the closed value
J30: %
C32: Retention time
C33: Specify how long time you plan to retain video recordings for
C38: Storage
C40: Calculated storage needs
C41: Based on the provided VMS dimensioning parameters the following storage will as minimum be required:
C43: Media Database | E43: =IF(StorageData=TRUE,Req_MediaDB,0) -> 0 | F43: GiB EBS (gp2) storage
C44: Media Archive | E44: =IF(StorageData=TRUE,Req_Archive,0) -> 0 | F44: TiB FSx storage
C46: Do you want to proceed with the calculated storage sizes or do you want to provide customer specific sizes?
C51: Customized storage sizes
C52: Specify desired size of media database (EBS gp2) storage
J53: GiB | K53: =IF(Storage_Input=2,IF(Custom_MediaDB<Req_MediaDB,"The size must be larger than required minimum size",""),"Not used") -> Not used
C55: Specify desired size of media archive (FSX) storage
J56: TiB | K56: =IF(Storage_Input=2,IF(Custom_Archive<Req_Archive,"The size must be larger than required minimum size",""),"Not used") -> Not used
C58: Multi Availability Zone archiving
C59: Select if FSx video archive shall be single or multi availability zone deployment
C64: VMS Usage
C66: Number of operators
C67: Enter how many operators that will use the system via the XProtect Smart Client
J68: Operator(s)
C70: Average daily usage time per operator
C71: Enter how many hours you expect each operator will view video from the VMS system on average. This may be both live viewing and playback. Streams assumed to be H.264 with 1080p resolution (4 Mbps) and 30 frames per second.
J72: Hours
C74: Average number of viewed cameras
...

Sheet Surveillance Bridge
B2: Price calculator for deploying Surveillance Bridge BYOL on AWS
C5: S3 Storage Calculation
C7: Total Storage Capacity
C8: ='Tiger Connector'!E8 -> 0
C10: Total Retention Time
C11: =Total_Days -> 0
D13: Immediate Tier | F13: Specify the Immediate Access Tier
D14: 30 | F14: S3 Standard - IA [min. stay 30 days / instant]
D16: Archive Tier
D17: =C11-D14 -> -30 | F17: S3 Glacier - IR [min. stay 90 days / instant]
C20: On-premises
C21: Enter the percentage of recording servers that are on-premises (0% if all in the cloud)
C22: 0
C26: .blk File Size
C27: Enter the size of Milestone blk files
C28: 16
B33: ="AWS Service - estimated service usage and pricing - S3 storage only "&Region_Name -> AWS Service - estimated service usage and pricing - S3 storage only Select Region
B34: =IF(InputData=FALSE,"Please provide all input information requested above. The following information is missing:","") -> Please provide all input information requested above. The following information is missing:
B36: ="Immediate Tier" -> Immediate Tier | K36: Cost per TB | N36: Cost per month
B37: =IF(InputData=TRUE,TEXT('Tiger Input'!C2,"0.00")& " TiB - "&F14,"") | K37: =IFERROR(IF(InputData=TRUE,AWS_Immediate_Tier_cost/Immediate_Tier_capacity_required,""),0) | L37: USD | N37: =IF(InputData=TRUE,AWS_Immediate_Tier_cost,"") | O37: USD
B39: ="Archive Tier " -> Archive Tier
B40: =IF(InputData=TRUE,TEXT('Tiger Input'!C3,"0.00")& " TiB "&F17,"") | K40: =IFERROR(IF(InputData=TRUE,AWS_Archive_Tier_cost/Archive_Tier_capacity_required,""),0) | L40: USD | N40: =IF(InputData=TRUE,AWS_Archive_Tier_cost,"") | O40: USD
B43: =IF(Client_Access=4,AppStream_Hours&" hours of monthly streaming on "&AppStream_Instance_Type,"") | N43: =IF(Client_Access=4,AppStream_Streaming_Price,"") | O43: =IF(Client_Access=4,"USD","")
B46: Total monthly cost (S3 storage only): | N46: =IF(InputData=TRUE,SUM(N37:N40),"") | O46: USD
B47: Total yearly cost (S3 storage only): | N47: =IF(InputData=TRUE,(N46*12),"") | O47: USD
B48: Average cost per TB | N48: =N46/C8 -> #VALUE! | O48: USD
B49: Monthly cost per camera | N49: =IF(InputData=TRUE,(N46/No_Cameras),"") | O49: USD
B50: Yearly cost per camera | N50: =IF(InputData=TRUE,(N47/No_Cameras),"") | O50: USD
B52: ="AWS Service - cost split" -> AWS Service - cost split
B68: This AWS service calculator is provided as is, and it is only intended to give an indicative service usage and cost estimation for running Milestone XProtect on AWS. Milestone Systems and Tiger Surveillance do not accept any direct or indirect liability for the results provided by this calculator, including suggested AWS service configuration and AWS Service price information.
B71: For complete pricing information on AWS service please refer to www.aws.com.

Sheet Tiger Connector
A3: Connector | C3: Milestone Provides | D3: << -- >> | E3: Tiger Uses
B4: Total Retention Time | C4: =(Retention_Time*Time_Factor) -> 0 | D4: hours | E4: =C4 -> 0
B5: Total_Days | D5: days | E5: =E4/24 -> 0
B6: Time in Media DB | C6: =24*1 -> 24 | D6: hours | E6: 2
B7: Media DB Storage | C7: =MediaDB -> #DIV/0! | D7: GiB | E7: =C7 -> #DIV/0!
B8: Media Archive | C8: =IF(Storage_Input=3,MAX('Storage Calulations'!G14:G15,2),0) -> 0 | D8: TiB | E8: =ROUNDUP(C8,0) -> 0
B9: #Cameras | C9: =No_Cameras -> 0 | D9: cameras | E9: =C9 -> 0
D10: operators | E10: ='Tiger Input'!C86 -> 0
D11: hours | E11: ='Tiger Input'!C87 -> 0
D12: views | E12: ='Tiger Input'!C88 -> Select number of video streams

Sheet Tiger Input
B1: Total Retention | C1: ='Tiger Connector'!E8 -> 0
B2: Immediate Tier | C2: ='Surveillance Bridge'!D14/'Surveillance Bridge'!C11*C1 -> #DIV/0!
B3: Archive Tier | C3: =C1-C2 -> #DIV/0!
B4: Table_Split | C4: 1 | D4: hr
B5: Number of folders | C5: =No_Cameras*24*30/Table_Split -> 0 | D5: folders
B7: 1 | C7: =2+_xlfn.SINGLE(Region_Offset) -> #N/A | D7: =C7+1 -> #N/A | E7: =D7+1 -> #N/A | F7: =E7+1 -> #N/A | G7: =F7+1 -> #N/A | H7: =G7+1 -> #N/A | I7: =H7+1 -> #N/A
C8: US East (N. Virginia) | J8: Europe (Irland)
A9: AWS | B9: Storage Class1 | C9: PUT, COPY, POST, LIST operations | D9: GET, SELECT, other operations | E9: Retrieval requests | F9: Lifecycle Transition operation | G9: Storage | H9: Egress | I9: Minimum stay | J9: PUT, COPY, POST, LIST operations | K9: GET, SELECT, other operations | L9: Retrieval requests | M9: Lifecycle Transition operation | N9: Storage | O9: Egress | P9: Minimum stay
B10: US East (N. Virginia) | C10: (per 10,000 operations) | D10: (per 10,000 operations) | E10: (per 10,000 operations) | F10: (per 1,000 operations) | G10: per GB per month | H10: per GB per month | J10: (per 10,000 operations) | K10: (per 10,000 operations) | L10: (per 10,000 operations) | M10: (per 1,000 operations) | N10: per GB per month | O10: per GB per month
B11: Select Immediate Tier
B12: S3 Standard (min. stay 0 days / instant) | C12: 0.05 | D12: 0.004 | F12: 0 | G12: 0.023 | H12: 0 | I12: 0 | J12: 0.05 | K12: 0.004 | M12: 0 | N12: 0.023 | O12: 0 | P12: 0
B13: S3 Standard - IA [min. stay 30 days / instant] | C13: 0.1 | D13: 0.01 | F13: 0.1 | G13: 0.0125 | H13: 0.01 | I13: 30 | J13: 0.1 | K13: 0.01 | M13: 0.1 | N13: 0.0125 | O13: 0.01 | P13: 30
B14: S3 Glacier - IR [min. stay 90 days / instant] | C14: 0.2 | D14: 0.1 | F14: 0.2 | G14: 0.004 | H14: 0.03 | I14: 90 | J14: 0.2 | K14: 0.1 | M14: 0.2 | N14: 0.004 | O14: 0.03 | P14: 90
B15: On premises Egress (Internet) | H15: 0.09 | O15: 0.09
B16: Europe (Ireland) | C16: (per 10,000 operations) | D16: (per 10,000 operations) | E16: (per 10,000 operations) | F16: (per 1,000 operations) | G16: per GB per month | H16: per GB per month | J16: (per 10,000 operations) | K16: (per 10,000 operations) | L16: (per 10,000 operations) | M16: (per 1,000 operations) | N16: per GB per month | O16: per GB per month
B17: Select Archive Tier
B18: S3 Glacier - IR [min. stay 90 days / instant] | C18: 0.2 | D18: 0.1 | F18: 0.2 | G18: 0.004 | H18: 0.03 | I18: 90 | J18: 0.2 | K18: 0.1 | M18: 0.2 | N18: 0.004 | O18: 0.03 | P18: 90
B19: S3 Glacier - FR - Expedited [min. stay 90 days / sla 5 min] | C19: 0.3 | D19: 0.004 | E19: 100 | F19: 0.3 | G19: 0.0036 | H19: 0.03 | I19: 90 | J19: 0.3 | K19: 0.004 | L19: 100 | M19: 0.3 | N19: 0.0036 | O19: 0.03 | P19: 90
B20: S3 Glacier - FR - Standard [min. stay 90 days / sla 3-5 hrs] | C20: 0.3 | D20: 0.004 | E20: 0.5 | F20: 0.3 | G20: 0.0036 | H20: 0.01 | I20: 90 | J20: 0.3 | K20: 0.004 | L20: 0.5 | M20: 0.3 | N20: 0.0036 | O20: 0.01 | P20: 90
B21: S3 Glacier - FR- Bulk [min. stay 90 days / sla 5-12 hrs] | C21: 0.3 | D21: 0.004 | E21: 0 | F21: 0.3 | G21: 0.0036 | H21: 0 | I21: 90 | J21: 0.3 | K21: 0.004 | L21: 0 | M21: 0.3 | N21: 0.0036 | O21: 0 | P21: 90
B22: S3 Glacier Deep Archive - Std. [min. stay 180 days / sla 12 hrs] | C22: 0.5 | D22: 0.004 | E22: 1 | F22: 0.5 | G22: 0.00099 | H22: 0.02 | I22: 180 | J22: 0.5 | K22: 0.004 | L22: 1 | M22: 0.5 | N22: 0.00099 | O22: 0.02 | P22: 180
B23: S3 Glacier Deep Archive - Bulk [min. stay 180 days / sla 48 hrs] | C23: 0.5 | D23: 0.004 | E23: 0.25 | F23: 0.5 | G23: 0.00099 | H23: 0.0025 | I23: 180 | J23: 0.5 | K23: 0.004 | L23: 0.25 | M23: 0.5 | N23: 0.00099 | O23: 0.0025 | P23: 180
B24: On premises Egress (Internet) | H24: 0.09 | O24: 0.09
B25: Selection Hot | C25: =VLOOKUP(Selected_Immediate_Tier,AWS_Immediate_Tier,C7,FALSE) -> #REF! | D25: =VLOOKUP(Selected_Immediate_Tier,AWS_Immediate_Tier,D7,FALSE) -> #REF! | E25: =VLOOKUP(Selected_Immediate_Tier,AWS_Immediate_Tier,E7,FALSE) -> #REF! | F25: =VLOOKUP(Selected_Immediate_Tier,AWS_Immediate_Tier,F7,FALSE) -> #REF! | G25: =VLOOKUP(Selected_Immediate_Tier,AWS_Immediate_Tier,G7,FALSE) -> #REF! | H25: =VLOOKUP(Selected_Immediate_Tier,AWS_Immediate_Tier,H7,FALSE) -> #REF! | I25: =VLOOKUP(Selected_Immediate_Tier,AWS_Immediate_Tier,I7,FALSE) -> #REF! | J25: =OFFSET(H24,0,_xlfn.SINGLE(Region_Offset))*Percentage_OnPremises -> #N/A
B26: Selection Archive | C26: =VLOOKUP(Selected_Archive_tier,AWS_Archive_Tier,C7,FALSE) -> #REF! | D26: =VLOOKUP(Selected_Archive_tier,AWS_Archive_Tier,D7,FALSE) -> #REF! | E26: =VLOOKUP(Selected_Archive_tier,AWS_Archive_Tier,E7,FALSE) -> #REF! | F26: =VLOOKUP(Selected_Archive_tier,AWS_Archive_Tier,F7,FALSE) -> #REF! | G26: =VLOOKUP(Selected_Archive_tier,AWS_Archive_Tier,G7,FALSE) -> #REF! | H26: =VLOOKUP(Selected_Archive_tier,AWS_Archive_Tier,H7,FALSE) -> #REF! | I26: =VLOOKUP(Selected_Archive_tier,AWS_Archive_Tier,I7,FALSE) -> #REF! | J26: =OFFSET(H24,0,_xlfn.SINGLE(Region_Offset))*Percentage_OnPremises -> #N/A
B27: Surveillance Bridge Operations
B28: Replicate file (ID format) | C28: 2 | D28: 0 | E28: 0 | F28: 0
B29: Replicate file (PATH format) | C29: 2 | D29: 1 | E29: 0 | F29: 0
B30: Replicate folder | C30: 1 | D30: 0 | E30: 0 | F30: 0
B31: Restore file chunk or entire file (ID format) | C31: 0 | D31: 1 | E31: 0 | F31: 0
B32: Restore chunk or entire file (PATH format) | C32: 0 | D32: 2 | E32: 0 | F32: 0
B33: Make file offline (ID format) | C33: 0 | D33: 2 | E33: 0 | F33: 1
B34: File delete | C34: 0 | D34: 0 | E34: 0 | F34: 0
B36: Selected Region | C36: Region | D36: Offset
C37: 2 | D37: 0
C38: 3 | D38: 7
B39: =Region_Name -> Select Region | C39: =Region -> 1 | D39: =VLOOKUP(Region,C37:D38,2,FALSE) -> #N/A
C46: MB | D46: GB | E46: TB | F46: PB | G46: Total # files | H46: # operations / 10,000 | I46: Storage usage | J46: Total Storage (GB) | K46: Milestone | L46: Operations | M46: Immediate
C47: 1 | D47: 1024 | E47: 1024 | F47: 1024 | G47: {=Immediate_Tier_capacity_required} -> #DIV/0! | L47: Minimum stay | M47: =I25 -> #REF!
B48: File size | C48: =C62 -> 16 | D48: =D47/C48 -> 64 | E48: =D48*E47 -> 65536 | F48: =E48*F47 -> 67108864 | G48: =F48*G47/1024 -> #DIV/0! | H48: =G48/10000 -> #DIV/0! | I48: 1 | J48: =G47*1024*I48 -> #DIV/0! | L48: Minimum stay multiplier | M48: =IFERROR(IF(Nearline_retention_period<M47,M47/Nearline_retention_period,1),1) -> 1
...

Sheet Input
A2: Region | D2: Selected: | E2: 1 | F2: =IF(Region=1,FALSE,TRUE) -> FALSE | G2: =VLOOKUP(E2,A3:B5,2,) -> Select Region | J2: Read column | K2: =IF(EC2_Payment=2,Region,Region+2) -> 3
A3: 1 | B3: Select Region
A4: 2 | B4: US East (N. Virginia)
A5: 3 | B5: Europe (Ireland)
A7: EC2 | D7: Selected: | E7: 1 | F7: =IF(EC2_Payment=1,FALSE,TRUE) -> FALSE | G7: =VLOOKUP(E7,A8:B10,2,) -> Select payment plan
A8: 1 | B8: Select payment plan
A9: 2 | B9: On-demand
A10: 3 | B10: RI Standard 3-year term, no upfront payment
A13: Degree of recording | D13: Selected: | E13: 1 | G13: =VLOOKUP(E13,A14:B19,2,) -> Select degree of recording
A14: 1 | B14: Select degree of recording
A15: 2 | B15: 0.1
A16: 3 | B16: 0.25
A17: 4 | B17: 0.5
A18: 5 | B18: 1
A21: Retention Unit | D21: Selected: | E21: 3 | G21: Conversion | J21: Time factor | K21: =VLOOKUP(E21,G22:H26,2,) -> 24
A22: 1 | B22: Select unit | G22: 1 | H22: 0
A23: 2 | B23: Hours | G23: 2 | H23: 1
A24: 3 | B24: Days | G24: 3 | H24: 24
A25: 4 | B25: Weeks | G25: 4 | H25: =(24*7) -> 168
A26: 5 | B26: Months | G26: 5 | H26: =(24*31) -> 744
A29: Number of streams | D29: Selected: | E29: 1 | G29: =VLOOKUP(E29,A32:B41,2,FALSE) -> Select number of video streams
C30: No access | D30: SC | E30: Adaptive Streaming
D31: Mbit/View/s | E31: Mbit/View/s | G31: Reduction
A32: 1 | B32: Select number of video streams | H32: Instance
A33: 2 | B33: 1 | C33: 0 | D33: =(B33*4) -> 4 | E33: =(D33*(1-G33)) -> 4 | F33: 0 | G33: 0 | H33: stream.graphics.g4dn.xlarge
A34: 3 | B34: 4 | C34: 0 | D34: =(B34*4) -> 16 | E34: =(D34*(1-G34)) -> 16 | F34: 0 | G34: 0 | H34: stream.graphics.g4dn.xlarge
A35: 4 | B35: 9 | C35: 0 | D35: =(B35*4) -> 36 | E35: =(D35*(1-G35)) -> 16 | F35: 0 | G35: 0.55555556 | H35: stream.graphics.g4dn.xlarge
A36: 5 | B36: 16 | C36: 0 | D36: =(B36*4) -> 64 | E36: =(D36*(1-G36)) -> 28.444444 | F36: 0 | G36: 0.55555556 | H36: stream.graphics.g4dn.xlarge
A37: 6 | B37: 25 | C37: 0 | D37: =(B37*4) -> 100 | E37: =(D37*(1-G37)) -> 19.861111 | F37: 0 | G37: 0.80138889 | H37: stream.graphics.g4dn.xlarge
A38: 7 | B38: 36 | C38: 0 | D38: =(B38*4) -> 144 | E38: =(D38*(1-G38)) -> 5.8666667 | F38: 0 | G38: 0.95925926 | H38: stream.graphics.g4dn.xlarge
A39: 8 | B39: 49 | C39: 0 | D39: =(B39*4) -> 196 | E39: =(D39*(1-G39)) -> 7.9851852 | F39: 0 | G39: 0.95925926 | H39: stream.graphics.g4dn.4xlarge
A40: 9 | B40: 68 | C40: 0 | D40: =(B40*4) -> 272 | E40: =(D40*(1-G40)) -> 11.081481 | F40: 0 | G40: 0.95925926 | H40: stream.graphics.g4dn.4xlarge
A41: 10 | B41: 100 | C41: 0 | D41: =(B41*4) -> 400 | E41: =(D41*(1-G41)) -> 16.296296 | F41: 0 | G41: 0.95925926 | H41: -
A43: Client access | D43: Selected: | E43: 1
A44: 1 | B44: Select client access
A45: 2 | B45: Smart Client
A46: 3 | B46: Smart Client with Adaptive Streaming
A47: 4 | B47: Smart Client in AppStream 2.0
A50: FSx storage | D50: Selected: | E50: 1 | G50: =VLOOKUP(E50,A51:E53,4,FALSE) -> 0 | H50: =VLOOKUP(E50,A51:E53,2,FALSE) -> Select FSx deployment | I50: =VLOOKUP(E50,A51:E53,5,FALSE) -> 0 | J50: =VLOOKUP(E50,A51:F53,6,FALSE) -> 0
A51: 1 | B51: Select FSx deployment
...

Sheet Calulations
A1: EC2 Instance type
A2: =VLOOKUP(EC2_Instance,EC2_Instances,EC2_Price_Column,FALSE) -> #N/A
A4: EBS for VMS configuration database
A5: =VLOOKUP("EBS",AWS_Services,Region,FALSE)*150 -> #VALUE!
A7: EBS for live media database
A8: =VLOOKUP("EBS",AWS_Services,Region,FALSE)*MediaDB -> #VALUE!
A10: FSx for media archive
A11: Storage | B11: =VLOOKUP(Input!I50,AWS_Services,Region,FALSE)*1024*Archive -> #N/A | G11: Throughput Selections
A12: Write throughput | B12: =(No_Cameras*Rec_Stream*Rec_degree)/8*130% -> #VALUE! | C12: GBps | G12: MBps-months
G13: 0 | H13: 8
A14: Total throughput | B14: =SUM(B12:B13) -> #VALUE! | C14: =ROUNDUP(B14,0) -> #VALUE! | G14: 8 | H14: 16
A15: Allocated throughput | B15: =IF(Storage_Input=3,0,VLOOKUP((C14-1),G13:H72,2,TRUE)) -> #VALUE! | G15: =G14*2 -> 16 | H15: 32
A16: FSx Throughput price | B16: =VLOOKUP(Input!J50,AWS_Services,Region,FALSE)*B15 -> #N/A | G16: =G15*2 -> 32 | H16: 32
G17: =G16*2 -> 64 | H17: 128
A18: Site-to-Site VPN | G18: =G17*2 -> 128 | H18: 256
A19: Number of attachments | B19: =VLOOKUP("VPN Connection",AWS_Services,Region,FALSE)*No_Sites -> #VALUE! | G19: =G18*2 -> 256 | H19: 512
A20: Throughput | B20: =(Up_Throughput+(Down_Throughput/1024)) -> 0 | C20: Mbps | G20: =G19*2 -> 512 | H20: 1024
A21: VPN | B21: =IF(Throughput>1.25,FALSE,IF(No_Sites>10,FALSE,TRUE)) -> TRUE | G21: =G20*2 -> 1024 | H21: 2048
G22: =G21*2 -> 2048 | H22: FALSE
A23: VPC egress data
A24: Data per camera view | B24: =VLOOKUP(Viewed_Cameras,Video_Streams,(Client_Access+1),FALSE) -> #N/A | C24: Mbit/s
A25: Data per viewing hour | B25: =(B24*3600/1024/8) -> #N/A | C25: GB/h
A26: Including communication overhead 8% | B26: =(B25*1.08) -> #N/A | C26: GB/h
A27: Transmitted data per month | B27: =ROUNDUP((B26*No_Operators*Daily_Usage*30.4/1024),2) -> #N/A | C27: TB/month
A28: Total egress price | B28: =VLOOKUP("Egress",AWS_Services,Region,FALSE)*B27*1024 -> #VALUE! | C28: USD/month
A33: AppStream 2.0
A34: =IF(Client_Access=4,No_Operators&" unique AppStream 2.0 users","AppStream 2.0 is not used") -> AppStream 2.0 is not used | B34: =VLOOKUP("AppStream_User",AWS_Services,Region,FALSE)*No_Operators -> #VALUE!
A35: AppStream instance type | B35: =VLOOKUP(Viewed_Cameras,Video_Streams,Client_Access+3,FALSE) -> #N/A
A36: Streaming hours | B36: =ROUNDUP(No_Operators*Daily_Usage*30.4,0) -> 0
A37: Streaming costs | B37: =VLOOKUP(AppStream_Instance_Type,AWS_Services,Region,FALSE)*AppStream_Hours -> #N/A
A40: Downlink
A41: Client Access | B41: Downlink throughput (worse case)
A42: 1 | B42: 0
A43: 2 | B43: =(B25*No_Operators) -> #N/A
A44: 3 | B44: =(B25*No_Operators) -> #N/A
A45: 4 | B45: =4*No_Operators*(1+Network_Overhead) -> 0
A53: EC2 - Compute | B53: =EC2_Price -> #N/A
A54: EBS -Storage | B54: =EBS_ConfigDB_Price+EBS_LiveDB_Price -> #VALUE!
A55: FSx -Storage | B55: =FSX_Storage_Price+FSX_Throughput_Price -> #N/A
A56: Site-to-Site - Networking | B56: =IF(VPN=TRUE,VPN_Price,0) -> #VALUE!
...

Sheet EC2
A2: Cameras: | B2: =(No_Cameras) -> 0 | G2: H.264 | H2: H.265
A3: 1 camera: | B3: =(Rec_Stream) -> 0 | C3: Mbit/s | F3: Sony HD | G3: 2.35 | I3: Mbit/s
A4: Recording: | B4: =Rec_degree -> Select degree of recording | C4: of received | F4: StableFPS FHD | G4: 4 | H4: 3 | I4: Mbit/s
A5: Retention: | B5: =24*1 -> 24 | C5: Hours | F5: StableFPS 4K | G5: 30 | H5: 20 | I5: Mbit/s
A6: Live-view: | B6: 0.05 | C6: of received
A7: Playback: | B7: 0.02 | C7: of recorded | F7: EC2 : | G7: Elastic Compute Cloud (VMs)
A8: Archiving: | B8: 1 | C8: of recorded | F8: EBS : | G8: Elastic Block Store (SSD)
A9: Retention: | B9: =(Retention_Time*Time_Factor) -> 0 | C9: Hours | F9: S3 : | G9: Simple Storage Service (buckets)
F10: FSx : | G10: FSx for Windows File Server (SSD or HDD)
A11: IOPS: | B11: =A19/B2*1000/128+1 -> #DIV/0! | C11: per camera
A12: IOPS: | B12: =B$2*B$11*(1+IF(B$8=0,0,1)) -> #DIV/0! | C12: I/O operations/s
A13: Live storage: | B13: =MAX(B12/3,B5*F20*B4/0.95*(1+D13)) -> #DIV/0! | C13: GiB | D13: 0
A14: Arc. storage: | B14: =MAX(0,B8*(B9-B5)*F20*B4/1024/0.95) -> #VALUE! | C14: TiB
A15: S-GW cache: | B15: =MAX(B8*F20*2,B2*20/3) -> 0 | C15: GiB
A17: MB & GB | C17: GB & TB | F17: MiB & GiB | H17: GiB & TiB
A18: =$B2*$B3 -> 0 | B18: Mbit/s | C18: =$B2*$B3/1000 -> 0 | D18: Gbit/s | F18: =$B2*$B3 -> 0 | G18: Mbit/s | H18: =$B2*$B3/1000 -> 0 | I18: Gbit/s
A19: =A18/8 -> 0 | B19: MB/s | C19: =C18/8 -> 0 | D19: GB/s | F19: =F18/8*(1000/1024)^2 -> 0 | G19: MiB/s | H19: =H18/8*(1000/1024)^3 -> 0 | I19: GiB/s
A20: =A19*3600/1000 -> 0 | B20: GB/hour | C20: =C19*3600/1000 -> 0 | D20: TB/hour | F20: =F19*3600/1024 -> 0 | G20: GiB/hour | H20: =H19*3600/1024 -> 0 | I20: TiB/hour
A21: =A20*24 -> 0 | B21: GB/day | C21: =C20*24 -> 0 | D21: TB/day | F21: =F20*24 -> 0 | G21: GiB/day | H21: =H20*24 -> 0 | I21: TiB/day
A22: =A21*7 -> 0 | B22: GB/week | C22: =C21*7 -> 0 | D22: TB/week | F22: =F21*7 -> 0 | G22: GiB/week | H22: =H21*7 -> 0 | I22: TiB/week
A23: =A21*365/12 -> 0 | B23: GB/month | C23: =C21*365/12 -> 0 | D23: TB/month | F23: =F21*365/12 -> 0 | G23: GiB/month | H23: =H21*365/12 -> 0 | I23: TiB/month
A25: Network overhead: | C25: 0.08
H26: =1024/1000 -> 1.024 | I26: kB/KiB
A27: =A18*(1+$C$25) -> 0 | B27: Mbit/s | C27: =C18*(1+$C$25) -> 0 | D27: Gbit/s | H27: =H$26^2 -> 1.048576 | I27: MB/MiB
A28: =A19*(1+$C$25) -> 0 | B28: MB/s | C28: =C19*(1+$C$25) -> 0 | D28: GB/s | H28: =H$26^3 -> 1.0737418 | I28: GB/GiB
A29: =A28*60/1000 -> 0 | B29: GB/min | C29: =C28*60 -> 0 | D29: GB/min | H29: =H$26^4 -> 1.0995116 | I29: TB/TiB
A31: Weighted number of cameras | B31: =No_Cameras*Rec_Stream/G4-1 -> -1
A32: EC2 instance | B32: =VLOOKUP(Rec_degree,A48:B51,2,FALSE) -> #N/A
A33: Calculated AWS Cost (w. transit-GW)
A34: Storage | B34: =0.11*B$13/30.4*7 -> #DIV/0! | C34: $/week
A35: VPN | B35: =0.05*24*7 -> 8.4 | C35: $/week
A36: T-GW-VPN | B36: =0.05*24*7 -> 8.4 | C36: $/week
A37: T-GW-VPC | B37: =0.05*24*7 -> 8.4 | C37: $/week
A38: VPN data | B38: =0.02*A$22*(1+C$25) -> 0 | C38: $/week | D38: site->VPC
A39: VPC data | B39: =0.02*A$22*(1+C$25)*(B$6+B$4*B$7+1%) -> #VALUE! | C39: $/week | D39: VPC->site
A40: EC2 | B40: =_xlfn.XLOOKUP($B$2*$B$3/$G$4,'EC2 Guideline'!#REF!,'EC2 Guideline'!#REF!,"n/a",1,1) -> #REF! | C40: $/week | D40: =_xlfn.XLOOKUP($B$2*$B$3/$G$4,'EC2 Guideline'!#REF!,'EC2 Guideline'!#REF!,"No EC2 type",1,1) -> #REF!
A41: Total | B41: =SUM(B34:B40) -> #DIV/0! | C41: $/week
B43: =B41/7*365 -> #DIV/0! | C43: $/year
B44: =B41/7*365/B$2 -> #DIV/0! | C44: $/year/camera
B45: =B41/7/B$2 -> #DIV/0! | C45: $/day/camera
...

Sheet EC2 Guideline
A1: Instance Type | B1: Cameras Recording Percentage
B2: 0.1 | C2: 0.25 | D2: 0.5 | E2: 1 | F2: 1
B3: Camera count at 100% archiving | F3: without archiving
A5: t3.large | B5: 8 | C5: 8 | D5: 7 | E5: 7 | F5: 8
A6: c5.large | B6: 18 | C6: 17 | D6: 17 | E6: 16 | F6: 18
A7: c5.xlarge | B7: 40 | C7: 39 | D7: 38 | E7: 36 | F7: 41
A8: c5.2xlarge | B8: 96 | C8: 95 | D8: 94 | E8: 92 | F8: 97
A9: g4dn.xlarge | B9: 113 | C9: 110 | D9: 106 | E9: 97 | F9: 115
A10: g4dn.2xlarge | B10: 275 | C10: 268 | D10: 242 | E10: 133 | F10: 280
A11: g4dn.4xlarge | B11: 480 | C11: 480 | D11: 468 | E11: 427 | F11: 480
C14: 481
A15: 10% Recording | C15: =VLOOKUP(C14-1,A16:B23,2) -> No Match
A16: 0 | B16: t3.large
A17: 8 | B17: c5.large
A18: 18 | B18: c5.xlarge
A19: 40 | B19: c5.2xlarge
A20: 96 | B20: g4dn.xlarge
A21: 113 | B21: g4dn.2xlarge
A22: 275 | B22: g4dn.4xlarge
A23: 480 | B23: No Match
A25: 25% Recording
A26: 0 | B26: t3.large
A27: 8 | B27: c5.large
A28: 17 | B28: c5.xlarge
A29: 39 | B29: c5.2xlarge
A30: 95 | B30: g4dn.xlarge
A31: 110 | B31: g4dn.2xlarge
A32: 268 | B32: g4dn.4xlarge
A33: 480 | B33: No Match
A35: 50% Recording
A36: 0 | B36: t3.large
A37: 7 | B37: c5.large
A38: 17 | B38: c5.xlarge
A39: 38 | B39: c5.2xlarge
A40: 94 | B40: g4dn.xlarge
A41: 106 | B41: g4dn.2xlarge
A42: 242 | B42: g4dn.4xlarge
A43: 468 | B43: No Match
A45: 100% Recording
A46: 0 | B46: t3.large
...

Sheet Storage Calulations
A2: Cameras: | B2: =No_Cameras -> 0
A3: 1 camera: | B3: =Rec_Stream -> 0 | C3: Mbit/s
A4: Recording: | B4: =Rec_degree -> Select degree of recording | C4: of received
A5: Time in Media DB | B5: =IF(Storage_Input=3,12,24*1) -> 24 | C5: Hours
A6: Live-view: | B6: 0 | C6: of received
A7: Playback: | B7: 0 | C7: of recorded
A8: Archiving: | B8: 1 | C8: of recorded
A9: Retention: | B9: =(Retention_Time*Time_Factor) -> 0 | C9: Hours | F9: Media DB
A10: Archive Margine | B10: 0.05 | F10: IOPS | G10: =(B13/3) -> #DIV/0! | H10: GiB
F11: Storage | G11: =B5*F20*B4/0.95 -> #VALUE! | H11: GiB
A12: IOPS: | B12: =A19/B2*1000/128+1 -> #DIV/0! | C12: per camera
A13: IOPS: | B13: =B$2*B$12*(1+IF(B$8=0,0,1)) -> #DIV/0! | C13: I/O operations/s | F13: Archive
A14: Live storage: | B14: =IF(Storage_Input=3,B5*F20*B4*(1+B10),MAX(B13/3,B5*F20*B4*(1+B10))) -> #DIV/0! | C14: GiB | D14: =ROUNDUP(B14,-1) -> #DIV/0! | F14: IOPS | G14: =(B13*B4/12)+1 -> #DIV/0! | H14: TiB
A15: Arc. storage: | B15: =IF(Storage_Input=3,0,MAX(G14:G15,2)) -> #DIV/0! | C15: TiB | D15: =ROUNDUP(B15,1) -> #DIV/0! | F15: Storage | G15: =(B9*F20/1024)*B4*(1+B10) -> #VALUE! | H15: TiB
F16: Throughput | G16: =No_Cameras*Rec_Stream*Rec_degree -> #VALUE! | H16: Mbps
A17: MB & GB | C17: GB & TB | F17: MiB & GiB | H17: GiB & TiB
A18: =$B2*$B3 -> 0 | B18: Mbit/s | C18: =$B2*$B3/1000 -> 0 | D18: Gbit/s | F18: =$B2*$B3 -> 0 | G18: Mbit/s | H18: =$B2*$B3/1000 -> 0 | I18: Gbit/s
A19: =A18/8 -> 0 | B19: MB/s | C19: =C18/8 -> 0 | D19: GB/s | F19: =F18/8*(1000/1024)^2 -> 0 | G19: MiB/s | H19: =H18/8*(1000/1024)^3 -> 0 | I19: GiB/s
A20: =A19*3600/1000 -> 0 | B20: GB/hour | C20: =C19*3600/1000 -> 0 | D20: TB/hour | F20: =F19*3600/1024 -> 0 | G20: GiB/hour | H20: =H19*3600/1024 -> 0 | I20: TiB/hour
A21: =A20*24 -> 0 | B21: GB/day | C21: =C20*24 -> 0 | D21: TB/day | F21: =F20*24 -> 0 | G21: GiB/day | H21: =H20*24 -> 0 | I21: TiB/day
A22: =A21*7 -> 0 | B22: GB/week | C22: =C21*7 -> 0 | D22: TB/week | F22: =F21*7 -> 0 | G22: GiB/week | H22: =H21*7 -> 0 | I22: TiB/week
A23: =A21*365/12 -> 0 | B23: GB/month | C23: =C21*365/12 -> 0 | D23: TB/month | F23: =F21*365/12 -> 0 | G23: GiB/month | H23: =H21*365/12 -> 0 | I23: TiB/month
A25: Network overhead: | C25: 0.08
H26: =1024/1000 -> 1.024 | I26: kB/KiB
A27: =A18*(1+$C$25) -> 0 | B27: Mbit/s | C27: =C18*(1+$C$25) -> 0 | D27: Gbit/s | H27: =H$26^2 -> 1.048576 | I27: MB/MiB
A28: =A19*(1+$C$25) -> 0 | B28: MB/s | C28: =C19*(1+$C$25) -> 0 | D28: GB/s | H28: =H$26^3 -> 1.0737418 | I28: GB/GiB
A29: =A28*60/1000 -> 0 | B29: GB/min | C29: =C28*60 -> 0 | D29: GB/min | H29: =H$26^4 -> 1.0995116 | I29: TB/TiB

Sheet AWS Prices
A1: EC2 | B1: On-demand | D1: RI Standard 3-year term, no upfront payment
A2: Instance Type | B2: US East (N. Virginia) | C2: Europe (Irland) | D2: US East (N. Virginia) | E2: Europe (Irland)
A3: t3.medium | B3: =(730*0.06) -> 43.8 | C3: =(730*0.064) -> 46.72 | D3: 26.57 | E3: 27.81 | F3: =(D3-B3)/B3 -> -0.393379 | G3: =(E3-C3)/C3 -> -0.40475171
A4: t3.large | B4: =(730*0.1108) -> 80.884 | C4: =(730*0.1188) -> 86.724 | D4: 46.36 | E4: 48.91 | F4: =(D4-B4)/B4 -> -0.42683349 | G4: =(E4-C4)/C4 -> -0.43602694
A5: c5.large | B5: =(730*0.177) -> 129.21 | C5: =(730*0.188) -> 137.24 | D5: 93.44 | E5: 97.09 | F5: =(D5-B5)/B5 -> -0.27683616 | G5: =(E5-C5)/C5 -> -0.29255319
A6: c5.xlarge | B6: =(730*0.354) -> 258.42 | C6: =(730*0.376) -> 274.48 | D6: 186.15 | E6: 194.91 | F6: =(D6-B6)/B6 -> -0.27966102 | G6: =(E6-C6)/C6 -> -0.28989362
A7: c5.2xlarge | B7: =(730*0.708) -> 516.84 | C7: =(730*0.752) -> 548.96 | D7: 372.3 | E7: 389.82 | F7: =(D7-B7)/B7 -> -0.27966102 | G7: =(E7-C7)/C7 -> -0.28989362
A8: g4dn.xlarge | B8: =(730*0.71) -> 518.3 | C8: =(730*0.771) -> 562.83 | D8: 300.03 | E8: 319.01 | F8: =(D8-B8)/B8 -> -0.42112676 | G8: =(E8-C8)/C8 -> -0.43320363
A9: g4dn.2xlarge | B9: =(730*1.12) -> 817.6 | C9: =(730*1.206) -> 880.38 | D9: 505.89 | E9: 532.9 | F9: =(D9-B9)/B9 -> -0.38125 | G9: =(E9-C9)/C9 -> -0.3946932
A10: g4dn.4xlarge | B10: =(730*1.94) -> 1416.2 | C10: =(730*2.078) -> 1516.94 | D10: 916.88 | E10: 960.68 | F10: =(D10-B10)/B10 -> -0.35257732 | G10: =(E10-C10)/C10 -> -0.36669875
B21: US East (N. Virginia) | C21: Europe (Irland)
A22: EBS | B22: 0.1 | C22: 0.11
A23: Single-AZ | B23: 0.013 | C23: 0.013
A24: Multi-AZ | B24: 0.025 | C24: 0.025
A25: Single-AZ_Throughput | B25: 2.2 | C25: 2.42
A26: Multi-AZ_Throughput | B26: 4.5 | C26: 4.95
A27: VPN Connection | B27: =(730*0.05) -> 36.5 | C27: =(730*0.05) -> 36.5
A28: Egress | B28: 0.09 | C28: 0.09
A29: AppStream_User | B29: 4.19 | C29: 4.19
A30: stream.graphics.g4dn.xlarge | B30: 1 | C30: 1.09
A31: stream.graphics.g4dn.4xlarge | B31: 2.73 | C31: 2.97
